BEGIN:VCALENDAR
VERSION:2.0
PRODID:-//Allgemeiner Bürgerschützenverein Dorsten Feldmark I und II e.V. - ECPv6.15.20//NONSGML v1.0//EN
CALSCALE:GREGORIAN
METHOD:PUBLISH
X-WR-CALNAME:Allgemeiner Bürgerschützenverein Dorsten Feldmark I und II e.V.
X-ORIGINAL-URL:https://schuetzenverein-dorsten-feldmark.de
X-WR-CALDESC:Veranstaltungen für Allgemeiner Bürgerschützenverein Dorsten Feldmark I und II e.V.
REFRESH-INTERVAL;VALUE=DURATION:PT1H
X-Robots-Tag:noindex
X-PUBLISHED-TTL:PT1H
BEGIN:VTIMEZONE
TZID:UTC
BEGIN:STANDARD
TZOFFSETFROM:+0000
TZOFFSETTO:+0000
TZNAME:UTC
DTSTART:20220101T000000
END:STANDARD
END:VTIMEZONE
BEGIN:VEVENT
DTSTART;VALUE=DATE:20230603
DTEND;VALUE=DATE:20230604
DTSTAMP:20260423T182235
CREATED:20230103T123152Z
LAST-MODIFIED:20230120T180018Z
UID:23415-1685750400-1685836799@schuetzenverein-dorsten-feldmark.de
SUMMARY:Kinderschützenfest & Bataillonsfest
DESCRIPTION:
URL:https://schuetzenverein-dorsten-feldmark.de/event/kinderschuetzenfest
LOCATION:Hof Gärtnerei Dreckmann\, Gelsenkirchener Straße 91\, Dorsten\, NRW\, 46282\, Deutschland
END:VEVENT
END:VCALENDAR