BEGIN:VCALENDAR
VERSION:2.0
PRODID:-//Allgemeiner Bürgerschützenverein Dorsten Feldmark I und II e.V. - ECPv6.15.20//NONSGML v1.0//EN
CALSCALE:GREGORIAN
METHOD:PUBLISH
X-WR-CALNAME:Allgemeiner Bürgerschützenverein Dorsten Feldmark I und II e.V.
X-ORIGINAL-URL:https://schuetzenverein-dorsten-feldmark.de
X-WR-CALDESC:Veranstaltungen für Allgemeiner Bürgerschützenverein Dorsten Feldmark I und II e.V.
REFRESH-INTERVAL;VALUE=DURATION:PT1H
X-Robots-Tag:noindex
X-PUBLISHED-TTL:PT1H
BEGIN:VTIMEZONE
TZID:UTC
BEGIN:STANDARD
TZOFFSETFROM:+0000
TZOFFSETTO:+0000
TZNAME:UTC
DTSTART:20230101T000000
END:STANDARD
END:VTIMEZONE
BEGIN:VEVENT
DTSTART;TZID=UTC:20240508T190000
DTEND;TZID=UTC:20240508T190000
DTSTAMP:20260423T110114
CREATED:20240122T183353Z
LAST-MODIFIED:20240204T093008Z
UID:24325-1715194800-1715194800@schuetzenverein-dorsten-feldmark.de
SUMMARY:Großer Übungsabend aller Kompanien
DESCRIPTION:Jede Kompanie trifft sich an ihren gewählten Treffpunkt. Und laufen dann in Sternenmarsch zu Getränkewelt van der Moolen. Ab da geht’s ca. um 19Uhr weiter zu Hof Dreckmann. 
URL:https://schuetzenverein-dorsten-feldmark.de/event/grosser-uebungsabend-aller-kompanien
LOCATION:Hof Gärtnerei Dreckmann\, Gelsenkirchener Straße 91\, Dorsten\, NRW\, 46282\, Deutschland
END:VEVENT
END:VCALENDAR