BEGIN:VCALENDAR
VERSION:2.0
PRODID:-//Allgemeiner Bürgerschützenverein Dorsten Feldmark I und II e.V. - ECPv6.15.20//NONSGML v1.0//EN
CALSCALE:GREGORIAN
METHOD:PUBLISH
X-ORIGINAL-URL:https://schuetzenverein-dorsten-feldmark.de
X-WR-CALDESC:Veranstaltungen für Allgemeiner Bürgerschützenverein Dorsten Feldmark I und II e.V.
REFRESH-INTERVAL;VALUE=DURATION:PT1H
X-Robots-Tag:noindex
X-PUBLISHED-TTL:PT1H
BEGIN:VTIMEZONE
TZID:UTC
BEGIN:STANDARD
TZOFFSETFROM:+0000
TZOFFSETTO:+0000
TZNAME:UTC
DTSTART:20230101T000000
END:STANDARD
END:VTIMEZONE
BEGIN:VEVENT
DTSTART;TZID=UTC:20240217T180000
DTEND;TZID=UTC:20240217T180000
DTSTAMP:20260423T103055
CREATED:20240113T101438Z
LAST-MODIFIED:20240131T191240Z
UID:24320-1708192800-1708192800@schuetzenverein-dorsten-feldmark.de
SUMMARY:Jahreshauptversammlung 2.Kompanie
DESCRIPTION:Tagesordnung:\n1. Begrüßung\n2. Jahres- und Kassenbericht 2023\n3. Termine 2024\n4. Schützenfest 2024\n5. Verschiedenes
URL:https://schuetzenverein-dorsten-feldmark.de/event/jahreshauptversammlung-2-kompanie
LOCATION:Schützenheim\, Wilhelm-Norres-Straße 7\, Dorsten\, NRW\, 46282\, Deutschland
END:VEVENT
END:VCALENDAR