BEGIN:VCALENDAR
VERSION:2.0
PRODID:-//Allgemeiner Bürgerschützenverein Dorsten Feldmark I und II e.V. - ECPv6.15.20//NONSGML v1.0//EN
CALSCALE:GREGORIAN
METHOD:PUBLISH
X-WR-CALNAME:Allgemeiner Bürgerschützenverein Dorsten Feldmark I und II e.V.
X-ORIGINAL-URL:https://schuetzenverein-dorsten-feldmark.de
X-WR-CALDESC:Veranstaltungen für Allgemeiner Bürgerschützenverein Dorsten Feldmark I und II e.V.
REFRESH-INTERVAL;VALUE=DURATION:PT1H
X-Robots-Tag:noindex
X-PUBLISHED-TTL:PT1H
BEGIN:VTIMEZONE
TZID:UTC
BEGIN:STANDARD
TZOFFSETFROM:+0000
TZOFFSETTO:+0000
TZNAME:UTC
DTSTART:20220101T000000
END:STANDARD
END:VTIMEZONE
BEGIN:VEVENT
DTSTART;VALUE=DATE:20230825
DTEND;VALUE=DATE:20230828
DTSTAMP:20260423T165517
CREATED:20230305T075052Z
LAST-MODIFIED:20230305T075052Z
UID:23941-1692921600-1693180799@schuetzenverein-dorsten-feldmark.de
SUMMARY:Schützenfest - Allgemeiner Bürger-Schützen-Verein Dorsten e.V.
DESCRIPTION:
URL:https://schuetzenverein-dorsten-feldmark.de/event/schuetzenfest-allgemeiner-buerger-schuetzen-verein-dorsten-e-v
END:VEVENT
END:VCALENDAR