BEGIN:VCALENDAR
VERSION:2.0
PRODID:-//Allgemeiner Bürgerschützenverein Dorsten Feldmark I und II e.V. - ECPv6.15.20//NONSGML v1.0//EN
CALSCALE:GREGORIAN
METHOD:PUBLISH
X-ORIGINAL-URL:https://schuetzenverein-dorsten-feldmark.de
X-WR-CALDESC:Veranstaltungen für Allgemeiner Bürgerschützenverein Dorsten Feldmark I und II e.V.
REFRESH-INTERVAL;VALUE=DURATION:PT1H
X-Robots-Tag:noindex
X-PUBLISHED-TTL:PT1H
BEGIN:VTIMEZONE
TZID:UTC
BEGIN:STANDARD
TZOFFSETFROM:+0000
TZOFFSETTO:+0000
TZNAME:UTC
DTSTART:20220101T000000
END:STANDARD
END:VTIMEZONE
BEGIN:VEVENT
DTSTART;TZID=UTC:20230820T130000
DTEND;TZID=UTC:20230820T130000
DTSTAMP:20260423T164936
CREATED:20221115T142534Z
LAST-MODIFIED:20221115T142534Z
UID:23355-1692536400-1692536400@schuetzenverein-dorsten-feldmark.de
SUMMARY:Fahrradtour 3.Kompanie
DESCRIPTION: Abfahrt am Schützenheim\, anschließend Grillen am Schützenheim
URL:https://schuetzenverein-dorsten-feldmark.de/event/fahrradtour-3-kompanie
LOCATION:Schützenheim\, Wilhelm-Norres-Straße 7\, Dorsten\, NRW\, 46282\, Deutschland
END:VEVENT
END:VCALENDAR